BEGIN:VCALENDAR
VERSION:2.0
PRODID:-//Cronulla Chamber of Commerce - ECPv4.9.10//NONSGML v1.0//EN
CALSCALE:GREGORIAN
METHOD:PUBLISH
X-WR-CALNAME:Cronulla Chamber of Commerce
X-ORIGINAL-URL:http://cronullachamber.com.au
X-WR-CALDESC:Events for Cronulla Chamber of Commerce
BEGIN:VTIMEZONE
TZID:Australia/Sydney
BEGIN:STANDARD
TZOFFSETFROM:+1100
TZOFFSETTO:+1000
TZNAME:AEST
DTSTART:20200404T160000
END:STANDARD
BEGIN:DAYLIGHT
TZOFFSETFROM:+1000
TZOFFSETTO:+1100
TZNAME:AEDT
DTSTART:20201003T160000
END:DAYLIGHT
END:VTIMEZONE
BEGIN:VEVENT
DTSTART;TZID=Australia/Sydney:20200217T180000
DTEND;TZID=Australia/Sydney:20200217T193000
DTSTAMP:20200225T110511
CREATED:20200217T052905Z
LAST-MODIFIED:20200217T052905Z
UID:933-1581962400-1581967800@cronullachamber.com.au
SUMMARY:Chamber Meeting Wednesday 26 February @ 6pm
DESCRIPTION:Chamber Meeting Wednesday 26 February @ 6pm \nRydges Cronulla Beach \n
URL:http://cronullachamber.com.au/event/chamber-meeting-wednesday-26-february-6pm/
LOCATION:Rydges Cronulla
ATTACH;FMTTYPE=image/png:http://cronullachamber.com.au/wp-content/uploads/2020/02/UPCOMING-EVENTS.png
END:VEVENT
END:VCALENDAR